BEGIN:VCALENDAR
VERSION:2.0
PRODID:-//Hafenmuseum Bremen - ECPv6.15.20//NONSGML v1.0//EN
CALSCALE:GREGORIAN
METHOD:PUBLISH
X-ORIGINAL-URL:https://hafenmuseum-bremen.de
X-WR-CALDESC:Veranstaltungen für Hafenmuseum Bremen
REFRESH-INTERVAL;VALUE=DURATION:PT1H
X-Robots-Tag:noindex
X-PUBLISHED-TTL:PT1H
BEGIN:VTIMEZONE
TZID:Europe/Berlin
BEGIN:DAYLIGHT
TZOFFSETFROM:+0100
TZOFFSETTO:+0200
TZNAME:CEST
DTSTART:20230326T010000
END:DAYLIGHT
BEGIN:STANDARD
TZOFFSETFROM:+0200
TZOFFSETTO:+0100
TZNAME:CET
DTSTART:20231029T010000
END:STANDARD
BEGIN:DAYLIGHT
TZOFFSETFROM:+0100
TZOFFSETTO:+0200
TZNAME:CEST
DTSTART:20240331T010000
END:DAYLIGHT
BEGIN:STANDARD
TZOFFSETFROM:+0200
TZOFFSETTO:+0100
TZNAME:CET
DTSTART:20241027T010000
END:STANDARD
BEGIN:DAYLIGHT
TZOFFSETFROM:+0100
TZOFFSETTO:+0200
TZNAME:CEST
DTSTART:20250330T010000
END:DAYLIGHT
BEGIN:STANDARD
TZOFFSETFROM:+0200
TZOFFSETTO:+0100
TZNAME:CET
DTSTART:20251026T010000
END:STANDARD
BEGIN:DAYLIGHT
TZOFFSETFROM:+0100
TZOFFSETTO:+0200
TZNAME:CEST
DTSTART:20260329T010000
END:DAYLIGHT
BEGIN:STANDARD
TZOFFSETFROM:+0200
TZOFFSETTO:+0100
TZNAME:CET
DTSTART:20261025T010000
END:STANDARD
END:VTIMEZONE
BEGIN:VEVENT
DTSTART;TZID=Europe/Berlin:20250112T143000
DTEND;TZID=Europe/Berlin:20250112T163000
DTSTAMP:20260423T141334
CREATED:20240903T111700Z
LAST-MODIFIED:20240903T111700Z
UID:14330-1736692200-1736699400@hafenmuseum-bremen.de
SUMMARY:Farbwelten: Schreibwerkstatt für Kinder
DESCRIPTION:Farbwelten: Schreibwerkstatt für Kinder mit Anke Fischer \nEine Farbe kommt auf die Welt und trifft andere Farben. Aber nicht dort\, wo wir sie erwarten\, sondern an ganz anderen Orten: Plötzlich ist das Meer rosa und der Himmel grün\, die Blätter der Pflanzen strahlen blau\, und die Vögel und Tiere haben bunte Kleckse und Punkte. Was ist nur passiert? Wir suchen die Geschichten und erzählen sie kunterbunt.
URL:https://hafenmuseum-bremen.de/kalender/farbwelten-schreibwerkstatt-fuer-kinder/2025-01-12/
LOCATION:Hafenmuseum\, Am Speicher XI 1\, Bremen\, 28217\, Deutschland
CATEGORIES:Sonderausstellung,Workshop
ATTACH;FMTTYPE=image/jpeg:https://hafenmuseum-bremen.de/wp-content/uploads/Regenbogenraum-1-scaled.jpg
END:VEVENT
BEGIN:VEVENT
DTSTART;TZID=Europe/Berlin:20241027T143000
DTEND;TZID=Europe/Berlin:20241027T163000
DTSTAMP:20260423T141334
CREATED:20240903T111700Z
LAST-MODIFIED:20240903T111700Z
UID:14329-1730039400-1730046600@hafenmuseum-bremen.de
SUMMARY:Farbwelten: Schreibwerkstatt für Kinder
DESCRIPTION:Farbwelten: Schreibwerkstatt für Kinder mit Anke Fischer \nEine Farbe kommt auf die Welt und trifft andere Farben. Aber nicht dort\, wo wir sie erwarten\, sondern an ganz anderen Orten: Plötzlich ist das Meer rosa und der Himmel grün\, die Blätter der Pflanzen strahlen blau\, und die Vögel und Tiere haben bunte Kleckse und Punkte. Was ist nur passiert? Wir suchen die Geschichten und erzählen sie kunterbunt.
URL:https://hafenmuseum-bremen.de/kalender/farbwelten-schreibwerkstatt-fuer-kinder/2024-10-27/
LOCATION:Hafenmuseum\, Am Speicher XI 1\, Bremen\, 28217\, Deutschland
CATEGORIES:Sonderausstellung,Workshop
ATTACH;FMTTYPE=image/jpeg:https://hafenmuseum-bremen.de/wp-content/uploads/Regenbogenraum-1-scaled.jpg
END:VEVENT
END:VCALENDAR