BEGIN:VCALENDAR
VERSION:2.0
PRODID:-//Hafenmuseum Bremen - ECPv6.15.20//NONSGML v1.0//EN
CALSCALE:GREGORIAN
METHOD:PUBLISH
X-WR-CALNAME:Hafenmuseum Bremen
X-ORIGINAL-URL:https://hafenmuseum-bremen.de
X-WR-CALDESC:Veranstaltungen für Hafenmuseum Bremen
REFRESH-INTERVAL;VALUE=DURATION:PT1H
X-Robots-Tag:noindex
X-PUBLISHED-TTL:PT1H
BEGIN:VTIMEZONE
TZID:Europe/Berlin
BEGIN:DAYLIGHT
TZOFFSETFROM:+0100
TZOFFSETTO:+0200
TZNAME:CEST
DTSTART:20230326T010000
END:DAYLIGHT
BEGIN:STANDARD
TZOFFSETFROM:+0200
TZOFFSETTO:+0100
TZNAME:CET
DTSTART:20231029T010000
END:STANDARD
BEGIN:DAYLIGHT
TZOFFSETFROM:+0100
TZOFFSETTO:+0200
TZNAME:CEST
DTSTART:20240331T010000
END:DAYLIGHT
BEGIN:STANDARD
TZOFFSETFROM:+0200
TZOFFSETTO:+0100
TZNAME:CET
DTSTART:20241027T010000
END:STANDARD
BEGIN:DAYLIGHT
TZOFFSETFROM:+0100
TZOFFSETTO:+0200
TZNAME:CEST
DTSTART:20250330T010000
END:DAYLIGHT
BEGIN:STANDARD
TZOFFSETFROM:+0200
TZOFFSETTO:+0100
TZNAME:CET
DTSTART:20251026T010000
END:STANDARD
END:VTIMEZONE
BEGIN:VEVENT
DTSTART;TZID=Europe/Berlin:20241113T100000
DTEND;TZID=Europe/Berlin:20241113T180000
DTSTAMP:20260423T122528
CREATED:20240903T113654Z
LAST-MODIFIED:20240903T113729Z
UID:14343-1731492000-1731520800@hafenmuseum-bremen.de
SUMMARY:Fortbildung: Das Atelier in der Kita
DESCRIPTION:Fortbildung für für Fachkräfte der Elementarstufe  mit Silke Rosenthal \nim Rahmen der Ausstellung „Das Gelbe vom Ei – Farbenrausch 4.0“ des Kek Kindermuseums \nAn diesen beiden Fortbildungstagen werden unterschiedliche Ansätze vorgestellt\, wie sich Atelierprojekte in der Kita umsetzen lassen. \nKunst und Gestaltung findet im Kindergartenalltag über das ziellose Spielen\, Bauen und Konstruieren statt. Diese Formen der Auseinandersetzung findet wir auch in unserer Mitmachausstellung. \nIn der Ausstellung „Das Gelbe vom Ei- Farbenrausch 4.0“ wird das Thema Farbe praxisnah vorgestellt. Anhand der unterschiedlichen Mitmachstationen in der Ausstellung werden wir die Farbe mit allen Sinnen erforschen. Wir setzen uns mit den musischen und bildnerischen Aspekten der Farbe auseinander\, betrachten spielerisch Farbentstehung\, Farbgesetze\, Farbwirkung\, zeitgenössische Techniken des Farbauftrags sowie die Gestaltung mit dem Zufall. Anmeldung unter: https://fortbildung.lis.bremen.de/fruehkindliche-bildung
URL:https://hafenmuseum-bremen.de/kalender/fortbildung-das-atelier-in-der-kita/2024-11-13/
LOCATION:Hafenmuseum\, Am Speicher XI 1\, Bremen\, 28217\, Deutschland
CATEGORIES:Fortbildung
ATTACH;FMTTYPE=image/jpeg:https://hafenmuseum-bremen.de/wp-content/uploads/Regenbogenraum-1-scaled.jpg
END:VEVENT
BEGIN:VEVENT
DTSTART;TZID=Europe/Berlin:20241112T100000
DTEND;TZID=Europe/Berlin:20241112T180000
DTSTAMP:20260423T122528
CREATED:20240903T113654Z
LAST-MODIFIED:20240903T113729Z
UID:14342-1731405600-1731434400@hafenmuseum-bremen.de
SUMMARY:Fortbildung: Das Atelier in der Kita
DESCRIPTION:Fortbildung für für Fachkräfte der Elementarstufe  mit Silke Rosenthal \nim Rahmen der Ausstellung „Das Gelbe vom Ei – Farbenrausch 4.0“ des Kek Kindermuseums \nAn diesen beiden Fortbildungstagen werden unterschiedliche Ansätze vorgestellt\, wie sich Atelierprojekte in der Kita umsetzen lassen. \nKunst und Gestaltung findet im Kindergartenalltag über das ziellose Spielen\, Bauen und Konstruieren statt. Diese Formen der Auseinandersetzung findet wir auch in unserer Mitmachausstellung. \nIn der Ausstellung „Das Gelbe vom Ei- Farbenrausch 4.0“ wird das Thema Farbe praxisnah vorgestellt. Anhand der unterschiedlichen Mitmachstationen in der Ausstellung werden wir die Farbe mit allen Sinnen erforschen. Wir setzen uns mit den musischen und bildnerischen Aspekten der Farbe auseinander\, betrachten spielerisch Farbentstehung\, Farbgesetze\, Farbwirkung\, zeitgenössische Techniken des Farbauftrags sowie die Gestaltung mit dem Zufall. Anmeldung unter: https://fortbildung.lis.bremen.de/fruehkindliche-bildung
URL:https://hafenmuseum-bremen.de/kalender/fortbildung-das-atelier-in-der-kita/2024-11-12/
LOCATION:Hafenmuseum\, Am Speicher XI 1\, Bremen\, 28217\, Deutschland
CATEGORIES:Fortbildung
ATTACH;FMTTYPE=image/jpeg:https://hafenmuseum-bremen.de/wp-content/uploads/Regenbogenraum-1-scaled.jpg
END:VEVENT
END:VCALENDAR