BEGIN:VCALENDAR
VERSION:2.0
PRODID:-//Hafenmuseum Bremen - ECPv6.15.20//NONSGML v1.0//EN
CALSCALE:GREGORIAN
METHOD:PUBLISH
X-WR-CALNAME:Hafenmuseum Bremen
X-ORIGINAL-URL:https://hafenmuseum-bremen.de
X-WR-CALDESC:Veranstaltungen für Hafenmuseum Bremen
REFRESH-INTERVAL;VALUE=DURATION:PT1H
X-Robots-Tag:noindex
X-PUBLISHED-TTL:PT1H
BEGIN:VTIMEZONE
TZID:Europe/Berlin
BEGIN:DAYLIGHT
TZOFFSETFROM:+0100
TZOFFSETTO:+0200
TZNAME:CEST
DTSTART:20230326T010000
END:DAYLIGHT
BEGIN:STANDARD
TZOFFSETFROM:+0200
TZOFFSETTO:+0100
TZNAME:CET
DTSTART:20231029T010000
END:STANDARD
BEGIN:DAYLIGHT
TZOFFSETFROM:+0100
TZOFFSETTO:+0200
TZNAME:CEST
DTSTART:20240331T010000
END:DAYLIGHT
BEGIN:STANDARD
TZOFFSETFROM:+0200
TZOFFSETTO:+0100
TZNAME:CET
DTSTART:20241027T010000
END:STANDARD
BEGIN:DAYLIGHT
TZOFFSETFROM:+0100
TZOFFSETTO:+0200
TZNAME:CEST
DTSTART:20250330T010000
END:DAYLIGHT
BEGIN:STANDARD
TZOFFSETFROM:+0200
TZOFFSETTO:+0100
TZNAME:CET
DTSTART:20251026T010000
END:STANDARD
BEGIN:DAYLIGHT
TZOFFSETFROM:+0100
TZOFFSETTO:+0200
TZNAME:CEST
DTSTART:20260329T010000
END:DAYLIGHT
BEGIN:STANDARD
TZOFFSETFROM:+0200
TZOFFSETTO:+0100
TZNAME:CET
DTSTART:20261025T010000
END:STANDARD
BEGIN:DAYLIGHT
TZOFFSETFROM:+0100
TZOFFSETTO:+0200
TZNAME:CEST
DTSTART:20270328T010000
END:DAYLIGHT
BEGIN:STANDARD
TZOFFSETFROM:+0200
TZOFFSETTO:+0100
TZNAME:CET
DTSTART:20271031T010000
END:STANDARD
END:VTIMEZONE
BEGIN:VEVENT
DTSTART;TZID=Europe/Berlin:20260418T140000
DTEND;TZID=Europe/Berlin:20260418T153000
DTSTAMP:20260423T140803
CREATED:20220223T095937Z
LAST-MODIFIED:20260223T115220Z
UID:15032-1776520800-1776526200@hafenmuseum-bremen.de
SUMMARY:Teetiet - Tauchen Sie ein in die faszinierende Welt rund um den Tee
DESCRIPTION:Das Tee Seminar mit „Tea-Tasting“ im Schuppen 6 der Berthold Vollers GmbH bietet einen spannenden Einblick in die bunte Welt des Tees: Entdecken Sie\, wo Tee angebaut und wie er hergestellt wird. Wer ist Weltmeister im Teetrinken? Was haben Ostfriesentee\, 5’o clock tea und Matcha gemeinsam? \nMit Sicht auf eines der größten Teelager Deutschlands werden Sie in den Weg der Teeblätter vom Feld bis in die Tasse und in die dazugehörige Tee-Logistik eingeführt. Die größten Anbauländer werden ebenso wie die wichtigsten Teesorten\, Ernte und Verarbeitung in anschaulichen Bildern erlebbar gemacht. \nExklusive Teemuster zum Sehen und Riechen sowie ein Tee-Tasting ausgewählter Teesorten zum Schmecken runden die anderthalbstündige Reise durch die Welt des Tees ab. \nDr. Thomas Henn\, leidenschaftlicher Teegenießer\, begleitet Sie mit fundiertem Fachwissen aus seiner 25jährigen Tätigkeit in Teehandelshäusern sowie deutschen und internationalen Teeverbänden auf diese unterhaltsame Reise durch die Welt des Tees. \nTreffpunkt:\nSchuppen 6 (Eingang C)\, Hoerneckestraße auf der linken Seite des Europahafens\, auf das Betriebsgelände der Firma Vollers fahren
URL:https://hafenmuseum-bremen.de/kalender/teetiet-2023-05-20/2026-04-18/
LOCATION:Schuppen 6\, Hoernecke Straße\, Bremen\, 28217\, Deutschland
CATEGORIES:Außenführung
ATTACH;FMTTYPE=image/jpeg:https://hafenmuseum-bremen.de/wp-content/uploads/Riechprobe-Frank-Scheffka-Hafenmuseum-Bremen.jpg
ORGANIZER;CN="Hafenmuseum Bremen":MAILTO:info@hafenmuseum-bremen.de
END:VEVENT
BEGIN:VEVENT
DTSTART;TZID=Europe/Berlin:20260417T170000
DTEND;TZID=Europe/Berlin:20260417T180000
DTSTAMP:20260423T140803
CREATED:20260218T101037Z
LAST-MODIFIED:20260325T093057Z
UID:15025-1776445200-1776448800@hafenmuseum-bremen.de
SUMMARY:Hands on Hafenmuseum - Führung für blinde und sehbehinderte Menschen
DESCRIPTION:Bremen ist Hafenstadt! Wo früher Kajearbeiter\, Stauer und Tallymänner arbeiteten\, werden heute Fachkräfte für Hafenlogistik und Containerbrückenfahrer:innen gesucht. Viele Waren erreichen den Hafen nicht mehr in Säcken oder zu Ballen verschnürt\, sondern im Container. Im Hafenmuseum kann man mit allen Sinnen Hafengeschichte und Gegenwart erfahren. Wie fühlt sich Baumwolle im Vergleich zu Wolle an? Was ist ein typischer Hafengeruch? Wie schwer ist ein Kaffeesack\, wie viele davon passen in einen Container? Welche Waren wurden\, welche Waren werden heute umgeschlagen? Taucht mit uns ein in die Hafenwelt! \nVideo: Hands on Hafenmuseum \nTreffpunkt: Kasse vom Hafenmuseum Bremen; Am Speicher XI 1\, 28217 Bremen\nAnmeldung: 0421-3038279 oder info@hafenmuseum-bremen.de \n 
URL:https://hafenmuseum-bremen.de/kalender/hands-on-hafenmuseum-fuehrung-fuer-blinde-und-sehbehinderte-menschen/
LOCATION:Hafenmuseum\, Am Speicher XI 1\, Bremen\, 28217\, Deutschland
CATEGORIES:Führung
ATTACH;FMTTYPE=image/jpeg:https://hafenmuseum-bremen.de/wp-content/uploads/Handson_c_Daniela-Buchholz_800.jpg
ORGANIZER;CN="Hafenmuseum Bremen":MAILTO:info@hafenmuseum-bremen.de
END:VEVENT
BEGIN:VEVENT
DTSTART;TZID=Europe/Berlin:20260410T170000
DTEND;TZID=Europe/Berlin:20260410T180000
DTSTAMP:20260423T140803
CREATED:20260218T090507Z
LAST-MODIFIED:20260324T082814Z
UID:14453-1775840400-1775844000@hafenmuseum-bremen.de
SUMMARY:Anpacken und Ahoi! - Führung in Leichter Sprache durch das Hafenmuseum
DESCRIPTION:Bremen ist Hafenstadt! \nWir laden zu einer Museumsführung ein.\nZusammen entdecken wir das Museum. \nUm diese Fragen geht es:\nWie wurde im Hafen gearbeitet?\nUnd wie sieht die Arbeit im Hafen heute aus? \nIm Museum gibt es viele Möglichkeiten zum Anfassen und Anpacken:\nWie riecht Kaffee?\nWie schwer ist ein Kaffeesack?\nWie fühlen sich Wolle und Baumwolle an? \nKomm mit auf Entdeckungsreise! \n\nTreffpunkt: Kasse vom Hafenmuseum Bremen; Am Speicher XI 1\, 28217 Bremen \nAnmeldung: unter 0421/3038279 oder info@hafenmuseum-bremen.de \n 
URL:https://hafenmuseum-bremen.de/kalender/anpacken-und-ahoi-fuehrung-in-leichter-sprache/
LOCATION:Hafenmuseum\, Am Speicher XI 1\, Bremen\, 28217\, Deutschland
CATEGORIES:Führung
ATTACH;FMTTYPE=image/jpeg:https://hafenmuseum-bremen.de/wp-content/uploads/Ahoi_Foto_c_Hafenmuseum_800.jpg
ORGANIZER;CN="Hafenmuseum Bremen":MAILTO:info@hafenmuseum-bremen.de
END:VEVENT
BEGIN:VEVENT
DTSTART;TZID=Europe/Berlin:20260321T140000
DTEND;TZID=Europe/Berlin:20260321T153000
DTSTAMP:20260423T140803
CREATED:20220223T095937Z
LAST-MODIFIED:20260223T115220Z
UID:12692-1774101600-1774107000@hafenmuseum-bremen.de
SUMMARY:Teetiet - Tauchen Sie ein in die faszinierende Welt rund um den Tee
DESCRIPTION:Das Tee Seminar mit „Tea-Tasting“ im Schuppen 6 der Berthold Vollers GmbH bietet einen spannenden Einblick in die bunte Welt des Tees: Entdecken Sie\, wo Tee angebaut und wie er hergestellt wird. Wer ist Weltmeister im Teetrinken? Was haben Ostfriesentee\, 5’o clock tea und Matcha gemeinsam? \nMit Sicht auf eines der größten Teelager Deutschlands werden Sie in den Weg der Teeblätter vom Feld bis in die Tasse und in die dazugehörige Tee-Logistik eingeführt. Die größten Anbauländer werden ebenso wie die wichtigsten Teesorten\, Ernte und Verarbeitung in anschaulichen Bildern erlebbar gemacht. \nExklusive Teemuster zum Sehen und Riechen sowie ein Tee-Tasting ausgewählter Teesorten zum Schmecken runden die anderthalbstündige Reise durch die Welt des Tees ab. \nDr. Thomas Henn\, leidenschaftlicher Teegenießer\, begleitet Sie mit fundiertem Fachwissen aus seiner 25jährigen Tätigkeit in Teehandelshäusern sowie deutschen und internationalen Teeverbänden auf diese unterhaltsame Reise durch die Welt des Tees. \nTreffpunkt:\nSchuppen 6 (Eingang C)\, Hoerneckestraße auf der linken Seite des Europahafens\, auf das Betriebsgelände der Firma Vollers fahren
URL:https://hafenmuseum-bremen.de/kalender/teetiet-2023-05-20/2026-03-21/
LOCATION:Schuppen 6\, Hoernecke Straße\, Bremen\, 28217\, Deutschland
CATEGORIES:Außenführung
ATTACH;FMTTYPE=image/jpeg:https://hafenmuseum-bremen.de/wp-content/uploads/Riechprobe-Frank-Scheffka-Hafenmuseum-Bremen.jpg
ORGANIZER;CN="Hafenmuseum Bremen":MAILTO:info@hafenmuseum-bremen.de
END:VEVENT
BEGIN:VEVENT
DTSTART;TZID=Europe/Berlin:20250504T160000
DTEND;TZID=Europe/Berlin:20250504T170000
DTSTAMP:20260423T140803
CREATED:20250203T140508Z
LAST-MODIFIED:20250312T085227Z
UID:14455-1746374400-1746378000@hafenmuseum-bremen.de
SUMMARY:Führung: Albert Speer in der Bundesrepublik
DESCRIPTION:Albert Speer in der Bundesrepublik. Vom Umgang mit deutscher Vergangenheit \nAlbert Speer war als führender Architekt und Rüstungsminister einer der Haupttäter des NS-Regimes. Nach seiner Haftentlassung verbreitete er jedoch die Legende\, er habe von den Verbrechen nichts gewusst und sei unverschuldet in den Krieg hineingeraten. Dieses Narrativ wurde von der Gesellschaft lange Zeit dankend angenommen. Die Ausstellung entlarvt die Speer-Legende und stellt die Frage in den Mittelpunkt\, warum diese über Jahrzehnte so große Resonanz in der Bundesrepublik fand. Expert:innen-Interviews\, Installationen\, Fotos und Dokumente geben umfassende Antworten und werfen gleichzeitig Fragen nach Bezügen zu aktuellen gesellschaftspolitischen Debatten auf. \nDas Hafenmuseum zeigt die Ausstellung anlässlich des 80-jährigen Kriegsendes in Kooperation mit der Landeszentrale für politische Bildung. Die viel beachtete Schau wurde vom Dokumentationszentrum Reichsparteitagsgelände Nürnberg entwickelt und für Bremen um die Rolle Speers in der Hansestadt erweitert. \n  \n 
URL:https://hafenmuseum-bremen.de/kalender/fuehrung-albert-speer-in-der-bundesrepublik-2025-05-04/
LOCATION:Hafenmuseum\, Am Speicher XI 1\, Bremen\, 28217\, Deutschland
CATEGORIES:Führung,Sonderausstellung
ATTACH;FMTTYPE=image/jpeg:https://hafenmuseum-bremen.de/wp-content/uploads/HaMu-Speer-c-Scheffka-scaled.jpg
ORGANIZER;CN="Hafenmuseum Bremen":MAILTO:info@hafenmuseum-bremen.de
END:VEVENT
BEGIN:VEVENT
DTSTART;TZID=Europe/Berlin:20250425T190000
DTEND;TZID=Europe/Berlin:20250425T203000
DTSTAMP:20260423T140803
CREATED:20241219T114929Z
LAST-MODIFIED:20250306T135744Z
UID:14414-1745607600-1745613000@hafenmuseum-bremen.de
SUMMARY:Hengameh Yaghoobifarah: Ministerium der Träume
DESCRIPTION:Lesung mit Hengameh Yaghoobifarah im Rahmen der Reihe „Literatür jetzt. who cares?“ \nHengameh Yaghoobifarah ist bekannt für scharfsinnige und provokante Texte zu gesellschaftlichen Themen. In Kolumnen\, journalistischen Texten und Prosa setzt sich Yaghoobifarah kritisch mit Identität\, Rassismus und queeren Lebenswelten auseinander. Mit klarer Stimme und unerschrockenen Stil bereichert Hengameh Yaghoobifarah die zeitgenössische Literatur- und Medienlandschaft. »Ministerium der Träume« ist ein Roman über Wahl- und Zwangsfamilie\, ein Debüt über den bedingungslosen Zusammenhalt unter Geschwistern\, das auch in die dunklen Ecken deutscher Gegenwart vordring. \nLesereihe in Kooperation mit dem Buchladen Logbuch und dem Kulturhaus Walle Brodelpott \n  \nLiteratür Jetzt. Who cares?      \nMit der Fortsetzung der gemeinsamen Lesereihe „Literatür jetzt“ richten das Kulturhaus Walle Brodelpott\, das Logbuch und das Hafenmuseum diesmal den Blick auf Frauenstimmen im Kontext der Arbeitswelt: Es geht um Themen wie unbezahlte Care-Arbeit\, um Chancen und Zugänge zu Bildung und Lohnarbeit. Auch Rollenerwartungen innerhalb der Familie und in Freundschaften werden literarisch untersucht sowie der Umgang mit Unsicherheit oder unterdrückter Wut. \n  \n 
URL:https://hafenmuseum-bremen.de/kalender/hengameh-yaghoobifarah-ministerium-der-traeume/
LOCATION:Hafenmuseum\, Am Speicher XI 1\, Bremen\, 28217\, Deutschland
CATEGORIES:Literatür jetzt
ORGANIZER;CN="Hafenmuseum Bremen":MAILTO:info@hafenmuseum-bremen.de
END:VEVENT
BEGIN:VEVENT
DTSTART;TZID=Europe/Berlin:20250410T180000
DTEND;TZID=Europe/Berlin:20250410T193000
DTSTAMP:20260423T140803
CREATED:20250203T135943Z
LAST-MODIFIED:20250203T135943Z
UID:14451-1744308000-1744313400@hafenmuseum-bremen.de
SUMMARY:Bauen am nationalen Haus. Architektur als Identitätspolitik
DESCRIPTION:Vortrag und Gespräch mit Philipp Oswalt\, Architekt und Publizist \nDer Wiederaufbau historischer Symbolbauten gilt als Engagement für historisches Bewusstsein\, architektonische Schönheit und Reparatur von Stadtraum. Doch die vermeintlich unpolitischen Fassaden zielen auf eine Änderung unseres Geschichts- und Gesellschaftsverständnisses: Populistisch werden Zeiten vor 1918 idealisiert\, Brüche negiert\, gewachsene Identitäten überschrieben. Und immer wieder sind Rechtsradikale an diesen Projekten beteiligt\, als Initiatoren oder Großspender. Philipp Oswalt zeigt die ideologischen Hintergründe der Debatte an Fallbeispielen auf. Ob Garnisonkirche Potsdam\, neue Altstadt oder Paulskirche in Frankfurt\, Berliner Schlosskuppel oder die Dessauer Meisterhäuser: Oswalt diskutiert jenseits einseitiger Sichtweisen\, mit Gespür für das Einsickern reaktionärer Vergangenheitsinterpretationen und identitätspolitisch unterlegter Ideologien in die zeitgenössische Stadtplanung. \nPhilipp Oswalt ist Professor für Architekturtheorie an der Universität Kassel. Seit 2024 ist er Mitglied der Berliner Akademie der Künste\, Sektion Baukunst. \n 
URL:https://hafenmuseum-bremen.de/kalender/bauen-am-nationalen-haus-architektur-als-identitaetspolitik/
LOCATION:b.zb Bremer Zentrum für Baukultur\, Am Wall 165-167\, Bremen\, Bremen\, 28195\, Germany
CATEGORIES:Sonderausstellung,Vortrag
ATTACH;FMTTYPE=image/jpeg:https://hafenmuseum-bremen.de/wp-content/uploads/Albert-Speer-in-der-Bundesrepublik.jpg
ORGANIZER;CN="Hafenmuseum Bremen":MAILTO:info@hafenmuseum-bremen.de
END:VEVENT
BEGIN:VEVENT
DTSTART;TZID=Europe/Berlin:20250406T110000
DTEND;TZID=Europe/Berlin:20250406T120000
DTSTAMP:20260423T140803
CREATED:20250203T140507Z
LAST-MODIFIED:20260218T092707Z
UID:14454-1743937200-1743940800@hafenmuseum-bremen.de
SUMMARY:Führung: Albert Speer in der Bundesrepublik
DESCRIPTION:Albert Speer in der Bundesrepublik. Vom Umgang mit deutscher Vergangenheit \nAlbert Speer war als führender Architekt und Rüstungsminister einer der Haupttäter des NS-Regimes. Nach seiner Haftentlassung verbreitete er jedoch die Legende\, er habe von den Verbrechen nichts gewusst und sei unverschuldet in den Krieg hineingeraten. Dieses Narrativ wurde von der Gesellschaft lange Zeit dankend angenommen. Die Ausstellung entlarvt die Speer-Legende und stellt die Frage in den Mittelpunkt\, warum diese über Jahrzehnte so große Resonanz in der Bundesrepublik fand. Expert:innen-Interviews\, Installationen\, Fotos und Dokumente geben umfassende Antworten und werfen gleichzeitig Fragen nach Bezügen zu aktuellen gesellschaftspolitischen Debatten auf. \nDas Hafenmuseum zeigt die Ausstellung anlässlich des 80-jährigen Kriegsendes in Kooperation mit der Landeszentrale für politische Bildung. Die viel beachtete Schau wurde vom Dokumentationszentrum Reichsparteitagsgelände Nürnberg entwickelt und für Bremen um die Rolle Speers in der Hansestadt erweitert. \n  \n 
URL:https://hafenmuseum-bremen.de/kalender/fuehrung-albert-speer-in-der-bundesrepublik-2025-04-06/2025-04-06/
LOCATION:Hafenmuseum\, Am Speicher XI 1\, Bremen\, 28217\, Deutschland
CATEGORIES:Führung,Sonderausstellung
ATTACH;FMTTYPE=image/jpeg:https://hafenmuseum-bremen.de/wp-content/uploads/Albert-Speer-in-der-Bundesrepublik.jpg
ORGANIZER;CN="Hafenmuseum Bremen":MAILTO:info@hafenmuseum-bremen.de
END:VEVENT
BEGIN:VEVENT
DTSTART;TZID=Europe/Berlin:20250325T180000
DTEND;TZID=Europe/Berlin:20250325T193000
DTSTAMP:20260423T140803
CREATED:20250203T135514Z
LAST-MODIFIED:20250312T090816Z
UID:14449-1742925600-1742931000@hafenmuseum-bremen.de
SUMMARY:Albert Speer und KZ-Zwangsarbeit in Nordwestdeutschland
DESCRIPTION:Vortrag und Gespräch mit Marc Buggeln\, Historiker und Publizist \nAlbert Speer war weit mehr als nur der Architekt des nationalsozialistischen Deutschlands. Als Rüstungsminister organisierte er den Einsatz von KZ-Häftlingen in der Rüstungsindustrie. Speers Ministerium war darüber hinaus auch für die Zuteilung von Baumaterialien für die Errichtung von Konzentrationslagern und deren Außenlagern zuständig. Während der Nürnberger Prozesse bestritt Speer\, konkret von diesen Lagern gewusst zu haben. Die Quellen sprechen eine andere Sprache. Prof. Dr. Marc Buggeln (Universität Flensburg) beleuchtet in seinem Vortrag die Rolle Speers im System der KZ-Zwangsarbeit am Beispiel der Außenlager des KZ Neuengamme. \n 
URL:https://hafenmuseum-bremen.de/kalender/albert-speer-und-kz-zwangsarbeit-in-nordwestdeutschland/
LOCATION:Hafenmuseum\, Am Speicher XI 1\, Bremen\, 28217\, Deutschland
CATEGORIES:Sonderausstellung,Vortrag
ORGANIZER;CN="Hafenmuseum Bremen":MAILTO:info@hafenmuseum-bremen.de
END:VEVENT
BEGIN:VEVENT
DTSTART;TZID=Europe/Berlin:20250320T180000
DTEND;TZID=Europe/Berlin:20250320T193000
DTSTAMP:20260423T140803
CREATED:20250203T134832Z
LAST-MODIFIED:20250312T091721Z
UID:14447-1742493600-1742499000@hafenmuseum-bremen.de
SUMMARY:Albert Speer: Eine deutsche Karriere
DESCRIPTION:Vortrag und Gespräch mit Magnus Brechtken\, Historiker und Publizist \n1931 trat Albert Speer der NSDAP bei und avancierte zu einem der engsten Vertrauten Hitlers\, 1942 wurde er Rüstungsminister und organisierte den „totalen Krieg“ wie die Vernichtungsmaschinerie. Dennoch behauptete er nach dem Kriegsende\, kein Nazi gewesen zu sein – eine Legende\, die der renommierte Zeithistoriker Magnus Brechtken eindrucksvoll dekonstruiert. Auf der Basis jahrelanger Recherchen und vieler bislang unbekannter Quellen schildert er zugleich\, wie Millionen Deutsche Speers Fabeln vom angeblich unpolitischen Technokraten mit Eifer übernahmen\, um sich die eigene Vergangenheit schönzureden\, und wie sehr Intellektuelle wie Joachim Fest und Wolf Jobst Siedler diese Legendenbildung unterstützten. Die verblüffende Biografie eines umtriebigen Manipulators – und zugleich ein Lehrstück für den deutschen Umgang mit der eigenen Geschichte.
URL:https://hafenmuseum-bremen.de/kalender/albert-speer-eine-deutsche-karriere/
LOCATION:Hafenmuseum\, Am Speicher XI 1\, Bremen\, 28217\, Deutschland
CATEGORIES:Sonderausstellung,Vortrag
ORGANIZER;CN="Hafenmuseum Bremen":MAILTO:info@hafenmuseum-bremen.de
END:VEVENT
BEGIN:VEVENT
DTSTART;TZID=Europe/Berlin:20250306T180000
DTEND;TZID=Europe/Berlin:20250306T200000
DTSTAMP:20260423T140803
CREATED:20250203T134210Z
LAST-MODIFIED:20250303T131907Z
UID:14443-1741284000-1741291200@hafenmuseum-bremen.de
SUMMARY:Speer goes to Hollywood
DESCRIPTION:Filmvorführung und Podiumsgespräch mit Anja Link (School of Architecture Bremen)\, Marcus Meyer (Denkort Bunker Valentin) und Holger Tepe (City 46) \nAlbert Speer ist ein Rätsel. Er war der ranghöchste Nazi\, der in Nürnberg der Todesstrafe entging. Speer zählte zu Hitlers engsten Vertrauten und sollte als sein Chefarchitekt Berlin zur Welthauptstadt umgestalten. Als Reichsminister für Bewaffnung und Munition war Speer verantwortlich für zwölf Millionen Zwangsarbeiter. Dennoch genießt er bis heute den Ruf des „guten Nazis“ – ein Mythos\, den er sorgsam selbst entwarf und kultivierte. Speer goes to Hollywood führt uns ins Jahr 1971: Paramount Pictures plant Speers Bestseller „Erinnerungen“ zu verfilmen\, und Speer will selbst am Drehbuch mitwirken. Vanessa Lapas Film basiert auf Tonaufzeichnungen der monatelangen Gespräche\, die Drehbuchautor Andrew Birkin mit Speer geführt hat\, und zeigt Speers skrupellosen Versuch\, seine Vergangenheit mit dem geplanten Film reinzuwaschen. Lapas Film enthält zudem seltene Archivaufnahmen\, die Speer vor dem Zweiten Weltkrieg\, in Kriegszeiten und später als mehr oder weniger zurückgezogen lebenden Ruheständler auf dem Land zeigen. \nISR 2020\, 97 Min\, OmU \nBis zum 19. März im Programm des City 46 \n  \n 
URL:https://hafenmuseum-bremen.de/kalender/speer-goes-to-hollywood/
LOCATION:City 46\, Birkenstr. 1\, Bremen\, Bremen\, 28195\, Germany
CATEGORIES:Film,Sonderausstellung
ORGANIZER;CN="Hafenmuseum Bremen":MAILTO:info@hafenmuseum-bremen.de
END:VEVENT
BEGIN:VEVENT
DTSTART;TZID=Europe/Berlin:20250214T190000
DTEND;TZID=Europe/Berlin:20250214T203000
DTSTAMP:20260423T140803
CREATED:20241219T101601Z
LAST-MODIFIED:20241219T101601Z
UID:14394-1739559600-1739565000@hafenmuseum-bremen.de
SUMMARY:Anke Stelling: Schäfchen im Trockenen
DESCRIPTION:Lesung mit Anke Stelling im Rahmen der Reihe „Literatür jetzt. who cares?“ \nAnke Stellings Prosa analysiert auf hoch sensible Weise die Mittelstandsgesellschaft der Gegenwart. Ihre jüngsten Romane ‚Bodentiefe Fenster‘\, ‚Fürsorge‘ und ‚Schäfchen im Trockenen‘ bilden zusammengenommen eine Trilogie moderner Gemeinschaft. Mit soziologischer Präzision stellt Anke Stelling dar\, wie und mit welchen Konsequenzen heutige Bürgerlichkeit von den antibürgerlichen Werten der 68er infiziert worden ist: von dem Wunsch nach Selbstverwirklichung\, lustvollem Konsum und Kreativität. Doch wo bleibt in diesem Zusammenhang die Kunst? Und wie kann eine Schriftstellerin und gleichzeitig versorgende Mutter mittun? Und welchen Ton hat die Literatur für ihre Erkundungen zu wählen? Diesen Fragen widmet sich Anke Stellings Arbeit: ebenso neugierig wie mitunter zornig\, vor allem aber mit den eigentlichen Erkenntnisformen des Poetischen: mit Genauigkeit\, Feinfühligkeit und Witz. \nLesereihe in Kooperation mit dem Buchladen Logbuch und dem Kulturhaus Walle Brodelpott \n  \nLiteratür Jetzt. Who cares?      \nMit der Fortsetzung der gemeinsamen Lesereihe „Literatür jetzt“ richten das Kulturhaus Walle Brodelpott\, das Logbuch und das Hafenmuseum diesmal den Blick auf Frauenstimmen im Kontext der Arbeitswelt: Es geht um Themen wie unbezahlte Care-Arbeit\, um Chancen und Zugänge zu Bildung und Lohnarbeit. Auch Rollenerwartungen innerhalb der Familie und in Freundschaften werden literarisch untersucht sowie der Umgang mit Unsicherheit oder unterdrückter Wut. \n  \n 
URL:https://hafenmuseum-bremen.de/kalender/anke-stelling-schaefchen-im-trockenen/
LOCATION:Hafenmuseum\, Am Speicher XI 1\, Bremen\, 28217\, Deutschland
CATEGORIES:Literatür jetzt
ORGANIZER;CN="Hafenmuseum Bremen":MAILTO:info@hafenmuseum-bremen.de
END:VEVENT
BEGIN:VEVENT
DTSTART;TZID=Europe/Berlin:20250117T190000
DTEND;TZID=Europe/Berlin:20250117T203000
DTSTAMP:20260423T140803
CREATED:20241219T100600Z
LAST-MODIFIED:20241219T100600Z
UID:14391-1737140400-1737145800@hafenmuseum-bremen.de
SUMMARY:Dietlind Falk: No Regrets
DESCRIPTION:Lesung mit Dietlind Falk im Rahmen der Reihe „Literatür jetzt. who cares?“ \nDie Düsseldorfer Autorin Dietlind Falk entführt ihre Leserschaft ins Tattoo-Milieu und präsentiert eine Geschichte\, die durch ihre Pott-Atmosphäre\, charmante Rotzigkeit\, schräge Typen\, viel Freundschaftsliebe und Humor besticht. Das No Regrets\, Hänk\, Muddy und Luz – und viele andere liebevoll gezeichnete Figuren wie Laber-Jochen\, Baumarkt-Bernie oder Schotter sollte man kennenlernen\, wenn man Geschichten von Sven Regener oder Rocko Schamoni liebt. \nLesereihe in Kooperation mit dem Buchladen Logbuch und dem Kulturhaus Walle Brodelpott \n  \nLiteratür Jetzt. Who cares?      \nMit der Fortsetzung der gemeinsamen Lesereihe „Literatür jetzt“ richten das Kulturhaus Walle Brodelpott\, das Logbuch und das Hafenmuseum diesmal den Blick auf Frauenstimmen im Kontext der Arbeitswelt: Es geht um Themen wie unbezahlte Care-Arbeit\, um Chancen und Zugänge zu Bildung und Lohnarbeit. Auch Rollenerwartungen innerhalb der Familie und in Freundschaften werden literarisch untersucht sowie der Umgang mit Unsicherheit oder unterdrückter Wut. \n  \n 
URL:https://hafenmuseum-bremen.de/kalender/dietlind-falk-no-regrets/
LOCATION:Hafenmuseum\, Am Speicher XI 1\, Bremen\, 28217\, Deutschland
CATEGORIES:Literatür jetzt
ORGANIZER;CN="Hafenmuseum Bremen":MAILTO:info@hafenmuseum-bremen.de
END:VEVENT
BEGIN:VEVENT
DTSTART;TZID=Europe/Berlin:20241130T150000
DTEND;TZID=Europe/Berlin:20241130T163000
DTSTAMP:20260423T140803
CREATED:20240814T124156Z
LAST-MODIFIED:20240814T124156Z
UID:14267-1732978800-1732984200@hafenmuseum-bremen.de
SUMMARY:Böhntjes und Döntjes – Kaffeestadt Bremen
DESCRIPTION:Bremen und Kaffee gehören seit jeher zusammen: Bremen und Hamburg waren immer die beiden wichtigsten deutschen Einfuhrhäfen für Rohkaffee. \nDoch wo wird Kaffee eigentlich angebaut? Wann entwickelte sich Kaffee zum beliebten „Volksgetränk“? Welche Bedeutung hat Kaffee heute für Bremen?\nErfahren Sie Wissenswertes und Anekdoten rund um die „braune Bohne“ und Bremens Kaffeegeschichte!
URL:https://hafenmuseum-bremen.de/kalender/boehntjes-und-doentjes-kaffeestadt-bremen/
LOCATION:Hafenmuseum\, Am Speicher XI 1\, Bremen\, 28217\, Deutschland
CATEGORIES:Museumsführung
ATTACH;FMTTYPE=image/jpeg:https://hafenmuseum-bremen.de/wp-content/uploads/HaMu-Boehntjes-und-Doentjes-scaled.jpg
ORGANIZER;CN="Hafenmuseum Bremen":MAILTO:info@hafenmuseum-bremen.de
END:VEVENT
BEGIN:VEVENT
DTSTART;TZID=Europe/Berlin:20241025T190000
DTEND;TZID=Europe/Berlin:20241025T203000
DTSTAMP:20260423T140803
CREATED:20240814T120131Z
LAST-MODIFIED:20240814T120317Z
UID:14255-1729882800-1729888200@hafenmuseum-bremen.de
SUMMARY:Anne Freytag: Lügen\, die wir uns erzählen
DESCRIPTION:Lesung mit Anne Freytag im Rahmen der Reihe „Literatuer jetzt. who cares?“ \nHelene hätte ihren Mann verlassen sollen. Für Alex. Aber sie hat es nicht getan. Und jetzt hat ihr Mann sie verlassen – weil er sich in eine andere verliebt hat. »Es ist einfach passiert.« Mit diesem Satz zerreißt Georg das Gefüge\, das Helene immer versucht hat zusammenzuhalten. Aber vielleicht ist das Ende gar kein Ende? Vielleicht ist es ein Anfang. Etwas\, das Helene gebraucht hat\, um sich aus dem gesellschaftlichen Korsett zu befreien\, aus ihren ewigen Versuchen\, den Bildern einer Frau zu entsprechen: als Ehe- und Karrierefrau\, als Mutter und Tochter … Was bedeutet es eigentlich\, eine Frau zu sein? Diese Frage begleitet Helene\, während sie beginnt\, ihren eigenen Weg zu gehen. \nLesereihe in Kooperation mit dem Buchladen Logbuch und dem Kulturhaus Walle Brodelpott \n  \nLiteratür Jetzt. Who cares?      \nMit der Fortsetzung der gemeinsamen Lesereihe „Literatür jetzt“ richten das Kulturhaus Walle Brodelpott\, das Logbuch und das Hafenmuseum diesmal den Blick auf Frauenstimmen im Kontext der Arbeitswelt: Es geht um Themen wie unbezahlte Care-Arbeit\, um Chancen und Zugänge zu Bildung und Lohnarbeit. Auch Rollenerwartungen innerhalb der Familie und in Freundschaften werden literarisch untersucht sowie der Umgang mit Unsicherheit oder unterdrückter Wut. \n  \n 
URL:https://hafenmuseum-bremen.de/kalender/anne-freytag-luegen-die-wir-uns-erzaehlen/
LOCATION:Hafenmuseum\, Am Speicher XI 1\, Bremen\, 28217\, Deutschland
CATEGORIES:Literatür jetzt
ORGANIZER;CN="Hafenmuseum Bremen":MAILTO:info@hafenmuseum-bremen.de
END:VEVENT
BEGIN:VEVENT
DTSTART;TZID=Europe/Berlin:20241019T150000
DTEND;TZID=Europe/Berlin:20241019T163000
DTSTAMP:20260423T140803
CREATED:20240814T121755Z
LAST-MODIFIED:20240814T121755Z
UID:14261-1729350000-1729355400@hafenmuseum-bremen.de
SUMMARY:Familie Pape und die vordere Überseestadt
DESCRIPTION:Führung zur Stadtentwicklung entlang der Geschichte von Familie Pape \nSeit 200 Jahren ist Familie Pape in der heutigen Überseestadt ansässig. Die Bremerin Rona Schneider gibt Einblick in ihre Familiengeschichte\, die eng mit der Stadtentwicklung im Bremer Westen verwoben ist. Die Führung spannt den Bogen von der Entstehungsgeschichte des Hafengebietes bis zur heuten Entwicklung der östlichen Teils der Überseestadt. \n 
URL:https://hafenmuseum-bremen.de/kalender/familie-pape-und-die-vordere-ueberseestadt/
LOCATION:Müller & Egerer Bäckerei und Konditorei GmbH\, Eduard-Schopf-Allee 1\, Bremen\, Bremen\, 28195\, Deutschland
CATEGORIES:Außenführung
ORGANIZER;CN="Hafenmuseum Bremen":MAILTO:info@hafenmuseum-bremen.de
END:VEVENT
END:VCALENDAR