BEGIN:VCALENDAR
VERSION:2.0
PRODID:-//Hafenmuseum Bremen - ECPv6.15.20//NONSGML v1.0//EN
CALSCALE:GREGORIAN
METHOD:PUBLISH
X-WR-CALNAME:Hafenmuseum Bremen
X-ORIGINAL-URL:https://hafenmuseum-bremen.de
X-WR-CALDESC:Veranstaltungen für Hafenmuseum Bremen
REFRESH-INTERVAL;VALUE=DURATION:PT1H
X-Robots-Tag:noindex
X-PUBLISHED-TTL:PT1H
BEGIN:VTIMEZONE
TZID:Europe/Berlin
BEGIN:DAYLIGHT
TZOFFSETFROM:+0100
TZOFFSETTO:+0200
TZNAME:CEST
DTSTART:20250330T010000
END:DAYLIGHT
BEGIN:STANDARD
TZOFFSETFROM:+0200
TZOFFSETTO:+0100
TZNAME:CET
DTSTART:20251026T010000
END:STANDARD
BEGIN:DAYLIGHT
TZOFFSETFROM:+0100
TZOFFSETTO:+0200
TZNAME:CEST
DTSTART:20260329T010000
END:DAYLIGHT
BEGIN:STANDARD
TZOFFSETFROM:+0200
TZOFFSETTO:+0100
TZNAME:CET
DTSTART:20261025T010000
END:STANDARD
BEGIN:DAYLIGHT
TZOFFSETFROM:+0100
TZOFFSETTO:+0200
TZNAME:CEST
DTSTART:20270328T010000
END:DAYLIGHT
BEGIN:STANDARD
TZOFFSETFROM:+0200
TZOFFSETTO:+0100
TZNAME:CET
DTSTART:20271031T010000
END:STANDARD
END:VTIMEZONE
BEGIN:VEVENT
DTSTART;TZID=Europe/Berlin:20260613T140000
DTEND;TZID=Europe/Berlin:20260613T153000
DTSTAMP:20260423T121907
CREATED:20220223T095937Z
LAST-MODIFIED:20220223T095937Z
UID:15033-1781359200-1781364600@hafenmuseum-bremen.de
SUMMARY:Teetiet - Tauchen Sie ein in die faszinierende Welt rund um den Tee
DESCRIPTION:Das Tee Seminar mit „Tea-Tasting“ im Schuppen 6 der Berthold Vollers GmbH bietet einen spannenden Einblick in die bunte Welt des Tees: Entdecken Sie\, wo Tee angebaut und wie er hergestellt wird. Wer ist Weltmeister im Teetrinken? Was haben Ostfriesentee\, 5’o clock tea und Matcha gemeinsam? \nMit Sicht auf eines der größten Teelager Deutschlands werden Sie in den Weg der Teeblätter vom Feld bis in die Tasse und in die dazugehörige Tee-Logistik eingeführt. Die größten Anbauländer werden ebenso wie die wichtigsten Teesorten\, Ernte und Verarbeitung in anschaulichen Bildern erlebbar gemacht. \nExklusive Teemuster zum Sehen und Riechen sowie ein Tee-Tasting ausgewählter Teesorten zum Schmecken runden die anderthalbstündige Reise durch die Welt des Tees ab. \nDr. Thomas Henn\, leidenschaftlicher Teegenießer\, begleitet Sie mit fundiertem Fachwissen aus seiner 25jährigen Tätigkeit in Teehandelshäusern sowie deutschen und internationalen Teeverbänden auf diese unterhaltsame Reise durch die Welt des Tees. \nTreffpunkt:\nSchuppen 6 (Eingang C)\, Hoerneckestraße auf der linken Seite des Europahafens\, auf das Betriebsgelände der Firma Vollers fahren
URL:https://hafenmuseum-bremen.de/kalender/teetiet-2023-05-20/2026-06-13/
LOCATION:Schuppen 6\, Hoernecke Straße\, Bremen\, 28217\, Deutschland
CATEGORIES:Außenführung
ATTACH;FMTTYPE=image/jpeg:https://hafenmuseum-bremen.de/wp-content/uploads/Riechprobe-Frank-Scheffka-Hafenmuseum-Bremen.jpg
ORGANIZER;CN="Hafenmuseum Bremen":MAILTO:info@hafenmuseum-bremen.de
END:VEVENT
END:VCALENDAR