BEGIN:VCALENDAR
VERSION:2.0
PRODID:-//Hafenmuseum Bremen - ECPv6.15.20//NONSGML v1.0//EN
CALSCALE:GREGORIAN
METHOD:PUBLISH
X-ORIGINAL-URL:https://hafenmuseum-bremen.de
X-WR-CALDESC:Veranstaltungen für Hafenmuseum Bremen
REFRESH-INTERVAL;VALUE=DURATION:PT1H
X-Robots-Tag:noindex
X-PUBLISHED-TTL:PT1H
BEGIN:VTIMEZONE
TZID:Europe/Berlin
BEGIN:DAYLIGHT
TZOFFSETFROM:+0100
TZOFFSETTO:+0200
TZNAME:CEST
DTSTART:20220327T010000
END:DAYLIGHT
BEGIN:STANDARD
TZOFFSETFROM:+0200
TZOFFSETTO:+0100
TZNAME:CET
DTSTART:20221030T010000
END:STANDARD
BEGIN:DAYLIGHT
TZOFFSETFROM:+0100
TZOFFSETTO:+0200
TZNAME:CEST
DTSTART:20230326T010000
END:DAYLIGHT
BEGIN:STANDARD
TZOFFSETFROM:+0200
TZOFFSETTO:+0100
TZNAME:CET
DTSTART:20231029T010000
END:STANDARD
BEGIN:DAYLIGHT
TZOFFSETFROM:+0100
TZOFFSETTO:+0200
TZNAME:CEST
DTSTART:20240331T010000
END:DAYLIGHT
BEGIN:STANDARD
TZOFFSETFROM:+0200
TZOFFSETTO:+0100
TZNAME:CET
DTSTART:20241027T010000
END:STANDARD
END:VTIMEZONE
BEGIN:VEVENT
DTSTART;TZID=Europe/Berlin:20231112T143000
DTEND;TZID=Europe/Berlin:20231112T163000
DTSTAMP:20260423T154744
CREATED:20230828T122613Z
LAST-MODIFIED:20230828T122613Z
UID:13336-1699799400-1699806600@hafenmuseum-bremen.de
SUMMARY:Schatten-Boxen
DESCRIPTION:mit Katrin Seithel \nWir gestalten kleine Boxen\, in denen sich so einiges verbergen kann. Was es ist\, das verraten vielleicht die Schatten… \nBringe gerne eine Taschenlampe mit! \nMaterialkosten: 2 €
URL:https://hafenmuseum-bremen.de/kalender/schatten-boxen/2023-11-12/
LOCATION:Hafenmuseum\, Am Speicher XI 1\, Bremen\, 28217\, Deutschland
CATEGORIES:Sonderausstellung,Workshop
END:VEVENT
BEGIN:VEVENT
DTSTART;TZID=Europe/Berlin:20231110T140000
DTEND;TZID=Europe/Berlin:20231110T180000
DTSTAMP:20260423T154744
CREATED:20230828T122319Z
LAST-MODIFIED:20230828T122319Z
UID:13334-1699624800-1699639200@hafenmuseum-bremen.de
SUMMARY:Cyanotypie mit Schulkindern
DESCRIPTION:Fortbildung für Lehrer:innen der Primar- und Sekundarstufe1 \nDie Cyanotypie ist ein fotografisches Edeldruckverfahren\, ein Vorläufer der heutigen Fotografie. Neben Fotos lassen sich auch Gegenstände als Bildgeber verwenden. Das Schöne an dem Verfahren: Im Gegensatz zur klassischen Fotoentwicklung sind die verwendeten Stoffe weitestgehend ungefährlich und man braucht keine üppige Technik. Außerdem lassen sich die Bilder mit z.B. Grüntee oder Kaffee spannend bearbeiten… \nIn einem etwa 4-stündigen Kurs üben wir \n– den Umgang mit den Cyanotypie-Chemikalien \n– wie man ein Foto bearbeitet und zum Negativ druckt \n– welche Arten von Gegenständen sich besonders für spannende Entwicklungen eignen \n– was bei Belichtung und Auswaschen der Bilder zu beachten ist \n– welche Möglichkeiten der Nachbehandlung (Farbintensivierung\, Tönen) es gibt \n– und erzähle über die Geschichte der Technik\, Alternativen oder theoretische Möglichkeiten der Mehrfarbigen-Cyanotypie \n  \nNur mit vorheriger Anmeldung bis zum 3.11. 23 unter mail@kek-kindermuseum.de \nDie Teilnahmegebühr beträgt 30€ ( inkl Materialkosten) \n 
URL:https://hafenmuseum-bremen.de/kalender/cyanotypie-mit-schulkindern/
LOCATION:Hafenmuseum\, Am Speicher XI 1\, Bremen\, 28217\, Deutschland
CATEGORIES:Sonderausstellung,Workshop
END:VEVENT
BEGIN:VEVENT
DTSTART;TZID=Europe/Berlin:20231105T143000
DTEND;TZID=Europe/Berlin:20231105T163000
DTSTAMP:20260423T154744
CREATED:20230828T121947Z
LAST-MODIFIED:20230828T121947Z
UID:13331-1699194600-1699201800@hafenmuseum-bremen.de
SUMMARY:Freundschaftsbilder
DESCRIPTION:mit Carolin Martens\nFreundschaftsbilder waren in der Zeit der Romantik beliebt. Du lernst mit Hilfe eines Pantografen\, wie du dein eigenes Foto ohne Fotoapparat herstellen kannst.\nMaterialkosten: 1 €
URL:https://hafenmuseum-bremen.de/kalender/freundschaftsbilder/2023-11-05/
LOCATION:Hafenmuseum\, Am Speicher XI 1\, Bremen\, 28217\, Deutschland
CATEGORIES:Sonderausstellung,Workshop
END:VEVENT
BEGIN:VEVENT
DTSTART;TZID=Europe/Berlin:20231029T143000
DTEND;TZID=Europe/Berlin:20231029T163000
DTSTAMP:20260423T154744
CREATED:20230828T121614Z
LAST-MODIFIED:20230828T121614Z
UID:13328-1698589800-1698597000@hafenmuseum-bremen.de
SUMMARY:Trickfilmworkshop
DESCRIPTION:mit Jakob Bodden \nAm Trickfilmtisch produziert ihr einen Kurzfilm im Stile von Lotte Reiniger. Anschließend sucht ihr eine Musik aus und vertont damit euren Trickfilm. Wenn ihr wollt\, laden wir eure Filme auf unseren YouTube-Kanal.
URL:https://hafenmuseum-bremen.de/kalender/trickfilmworkshop/2023-10-29/
LOCATION:Hafenmuseum\, Am Speicher XI 1\, Bremen\, 28217\, Deutschland
CATEGORIES:Sonderausstellung,Workshop
END:VEVENT
BEGIN:VEVENT
DTSTART;TZID=Europe/Berlin:20231022T143000
DTEND;TZID=Europe/Berlin:20231022T163000
DTSTAMP:20260423T154744
CREATED:20230828T121223Z
LAST-MODIFIED:20230828T121223Z
UID:13325-1697985000-1697992200@hafenmuseum-bremen.de
SUMMARY:Schatten im Glas
DESCRIPTION:mit Melanie Kuhl \nDu hast einen Lieblingsschatten\, den Du Dir immer zu ansehen möchtest? Oder einen unheimlichen Schatten\, den Du sicher verwahrt haben willst? Fang ihn ein und steck ihn in ein Glas! \nAus Scherenschnitten\, Transparentpapier und alten Schraubgläsern können Groß und Klein sich Ihren ganz individuellen „Schatten im Glas“ als Windlicht gestalten. \nMaterialkosten: 2 €.
URL:https://hafenmuseum-bremen.de/kalender/schatten-im-glas/2023-10-22/
LOCATION:Hafenmuseum\, Am Speicher XI 1\, Bremen\, 28217\, Deutschland
CATEGORIES:Sonderausstellung,Workshop
END:VEVENT
BEGIN:VEVENT
DTSTART;TZID=Europe/Berlin:20231005T100000
DTEND;TZID=Europe/Berlin:20231005T180000
DTSTAMP:20260423T154744
CREATED:20230828T120345Z
LAST-MODIFIED:20230828T120433Z
UID:13317-1696500000-1696528800@hafenmuseum-bremen.de
SUMMARY:Fortbildung für Fachkräfte der Elementarstufe
DESCRIPTION:Das Atelier in der Kita\, mit Sillke Rosenthal\nAn diesen beiden Fortbildungstagen werden unterschiedliche Ansätze vorgestellt\, wie sich Atelierprojekte in der Kita umsetzen lassen. \nKunst und Gestaltung findet im Kindergartenalltag über das ziellose Spielen\, Bauen und Konstruieren statt. Diese Formen der Auseinandersetzung findet wir auch in unserer Mitmachausstellung „Gestatten\, ich bin dein Schatten!“ \nIn der Ausstellung wird der Schatten als Spielpartner erlebbar. Anhand der unterschiedlichen Mitmachstationen in der Ausstellung werden verschiedene Werkstätten aus unterschiedlichen künstlerischen Sparten entwickelt und vorgestellt wie Schattenportraits\, Lichtpausen\, Schattentheater\, Schattenspiele im Alltag sowie Geschichtenwerkstätten. \nzur Anmeldung
URL:https://hafenmuseum-bremen.de/kalender/fortbildung-fuer-fachkraefte-der-elementarstufe/2023-10-05/
LOCATION:Hafenmuseum\, Am Speicher XI 1\, Bremen\, 28217\, Deutschland
CATEGORIES:Sonderausstellung,Workshop
END:VEVENT
BEGIN:VEVENT
DTSTART;TZID=Europe/Berlin:20230917T110000
DTEND;TZID=Europe/Berlin:20230917T123000
DTSTAMP:20260423T154744
CREATED:20230828T094459Z
LAST-MODIFIED:20230828T094853Z
UID:13307-1694948400-1694953800@hafenmuseum-bremen.de
SUMMARY:Familienführung "Gestatten\, ich bin dein Schatten"
DESCRIPTION:mit Carolin Martens / Gönna Jensen
URL:https://hafenmuseum-bremen.de/kalender/feamilienfuehrung-gestatten-ich-bin-dein-schatten/2023-09-17/
LOCATION:Hafenmuseum\, Am Speicher XI 1\, Bremen\, 28217\, Deutschland
CATEGORIES:Familienführung
END:VEVENT
BEGIN:VEVENT
DTSTART;TZID=Europe/Berlin:20230912T160000
DTEND;TZID=Europe/Berlin:20230912T180000
DTSTAMP:20260423T154744
CREATED:20230828T093522Z
LAST-MODIFIED:20230828T115945Z
UID:13304-1694534400-1694541600@hafenmuseum-bremen.de
SUMMARY:Multiplikator:innenführung "Gestatten\, ich bin dein Schatten"
DESCRIPTION:mit Silke Rosenthal
URL:https://hafenmuseum-bremen.de/kalender/multiplikatorinnenfuehrung-gestatten-ich-bin-dein-schatten/2023-09-12/
LOCATION:Hafenmuseum\, Am Speicher XI 1\, Bremen\, 28217\, Deutschland
CATEGORIES:Sonderausstellung
END:VEVENT
END:VCALENDAR