BEGIN:VCALENDAR
VERSION:2.0
PRODID:-//Hafenmuseum Bremen - ECPv6.15.20//NONSGML v1.0//EN
CALSCALE:GREGORIAN
METHOD:PUBLISH
X-WR-CALNAME:Hafenmuseum Bremen
X-ORIGINAL-URL:https://hafenmuseum-bremen.de
X-WR-CALDESC:Veranstaltungen für Hafenmuseum Bremen
REFRESH-INTERVAL;VALUE=DURATION:PT1H
X-Robots-Tag:noindex
X-PUBLISHED-TTL:PT1H
BEGIN:VTIMEZONE
TZID:Europe/Berlin
BEGIN:DAYLIGHT
TZOFFSETFROM:+0100
TZOFFSETTO:+0200
TZNAME:CEST
DTSTART:20230326T010000
END:DAYLIGHT
BEGIN:STANDARD
TZOFFSETFROM:+0200
TZOFFSETTO:+0100
TZNAME:CET
DTSTART:20231029T010000
END:STANDARD
BEGIN:DAYLIGHT
TZOFFSETFROM:+0100
TZOFFSETTO:+0200
TZNAME:CEST
DTSTART:20240331T010000
END:DAYLIGHT
BEGIN:STANDARD
TZOFFSETFROM:+0200
TZOFFSETTO:+0100
TZNAME:CET
DTSTART:20241027T010000
END:STANDARD
BEGIN:DAYLIGHT
TZOFFSETFROM:+0100
TZOFFSETTO:+0200
TZNAME:CEST
DTSTART:20250330T010000
END:DAYLIGHT
BEGIN:STANDARD
TZOFFSETFROM:+0200
TZOFFSETTO:+0100
TZNAME:CET
DTSTART:20251026T010000
END:STANDARD
BEGIN:DAYLIGHT
TZOFFSETFROM:+0100
TZOFFSETTO:+0200
TZNAME:CEST
DTSTART:20260329T010000
END:DAYLIGHT
BEGIN:STANDARD
TZOFFSETFROM:+0200
TZOFFSETTO:+0100
TZNAME:CET
DTSTART:20261025T010000
END:STANDARD
END:VTIMEZONE
BEGIN:VEVENT
DTSTART;TZID=Europe/Berlin:20250314T190000
DTEND;TZID=Europe/Berlin:20250314T203000
DTSTAMP:20260423T140348
CREATED:20250203T132741Z
LAST-MODIFIED:20250203T132757Z
UID:14417-1741978800-1741984200@hafenmuseum-bremen.de
SUMMARY:Tamara Štajner: Raupenfell
DESCRIPTION:Lesung mit Tamara Štajner im Rahmen der Reihe „Literatür jetzt. who cares?“ \nTamara Štajner wurde 1987 in Novo mesto\, Slowenien\, geboren. Sie schloss ihr Master-Studium im Konzertfach Viola an der Universität für Musik und darstellende Kunst Wien ab. Derzeit promoviert sie im Fach Musiktheorie an der Johannes Gutenberg-Universität Mainz. 2020 wurde sie in die Junge Akademie der Wissenschaften und der Literatur | Mainz aufgenommen\, 2022 folgte die Aufnahme in die Gutenberg Akademie. 2022 erschien mit Schlupflöcher ihr erster Gedichtband\, Raupenfell ist ihr erster Roman. Sie lebt in Wien und im Rhein-Main-Gebiet. \nLesereihe in Kooperation mit dem Buchladen Logbuch und dem Kulturhaus Walle Brodelpott \n  \nLiteratür Jetzt. Who cares?      \nMit der Fortsetzung der gemeinsamen Lesereihe „Literatür jetzt“ richten das Kulturhaus Walle Brodelpott\, das Logbuch und das Hafenmuseum diesmal den Blick auf Frauenstimmen im Kontext der Arbeitswelt: Es geht um Themen wie unbezahlte Care-Arbeit\, um Chancen und Zugänge zu Bildung und Lohnarbeit. Auch Rollenerwartungen innerhalb der Familie und in Freundschaften werden literarisch untersucht sowie der Umgang mit Unsicherheit oder unterdrückter Wut. \n  \n 
URL:https://hafenmuseum-bremen.de/kalender/tamara-stajner-raupenfell/
LOCATION:Logbuch\, Vegesacker Str. 1\, Bremen\, Bremen\, 28217
CATEGORIES:Literatür jetzt
ORGANIZER;CN="Logbuch":MAILTO:info@logbuchladen.de
END:VEVENT
BEGIN:VEVENT
DTSTART;TZID=Europe/Berlin:20241115T190000
DTEND;TZID=Europe/Berlin:20241115T203000
DTSTAMP:20260423T140348
CREATED:20240814T120626Z
LAST-MODIFIED:20240814T130353Z
UID:14259-1731697200-1731702600@hafenmuseum-bremen.de
SUMMARY:Maiken Nielsen: Space Girls
DESCRIPTION:Lesung mit Maiken Nielsen im Rahmen der Reihe „Literatür jetzt. who cares?“ \nJuni wächst in den 50er-Jahren auf einem Flugplatz in New Orleans auf. Für das wilde Kind gibt es nichts Schöneres\, als mit ihrem Stiefvater an Flugzeugen herumzubasteln. Doch Juni will mehr: zu den Sternen fliegen. Jahre später kommt sie diesem Traum ein Stück näher: Mit zwölf anderen Frauen wird sie zum Astronauten-Training der NASA zugelassen. Es beginnt eine Zeit der mörderischen Tests. Doch Juni hält durch und erzielt herausragende Ergebnisse. Ihr Traum vom Flug zu den Sternen scheint kurz vor der Erfüllung zu stehen\, da erreicht sie eine niederschmetternde Nachricht: Keine der Frauen darf ins All\, Männer wie John Glenn erhalten den Vorzug. Juni ist am Boden zerstört. Aber sie beschließt zu kämpfen. Für ihre Rechte\, für ihren Traum … \nLesereihe in Kooperation mit dem Buchladen Logbuch und dem Kulturhaus Walle Brodelpott \n  \nLiteratür Jetzt. Who cares?      \nMit der Fortsetzung der gemeinsamen Lesereihe „Literatür jetzt“ richten das Kulturhaus Walle Brodelpott\, das Logbuch und das Hafenmuseum diesmal den Blick auf Frauenstimmen im Kontext der Arbeitswelt: Es geht um Themen wie unbezahlte Care-Arbeit\, um Chancen und Zugänge zu Bildung und Lohnarbeit. Auch Rollenerwartungen innerhalb der Familie und in Freundschaften werden literarisch untersucht sowie der Umgang mit Unsicherheit oder unterdrückter Wut. \n  \n 
URL:https://hafenmuseum-bremen.de/kalender/maike-nielsen-space-girls/
LOCATION:Logbuch\, Vegesacker Str. 1\, Bremen\, Bremen\, 28217
CATEGORIES:Literatür jetzt
ORGANIZER;CN="Logbuch":MAILTO:info@logbuchladen.de
END:VEVENT
END:VCALENDAR