BEGIN:VCALENDAR
VERSION:2.0
PRODID:-//Hafenmuseum Bremen - ECPv6.15.20//NONSGML v1.0//EN
CALSCALE:GREGORIAN
METHOD:PUBLISH
X-ORIGINAL-URL:https://hafenmuseum-bremen.de
X-WR-CALDESC:Veranstaltungen für Hafenmuseum Bremen
REFRESH-INTERVAL;VALUE=DURATION:PT1H
X-Robots-Tag:noindex
X-PUBLISHED-TTL:PT1H
BEGIN:VTIMEZONE
TZID:Europe/Berlin
BEGIN:DAYLIGHT
TZOFFSETFROM:+0100
TZOFFSETTO:+0200
TZNAME:CEST
DTSTART:20240331T010000
END:DAYLIGHT
BEGIN:STANDARD
TZOFFSETFROM:+0200
TZOFFSETTO:+0100
TZNAME:CET
DTSTART:20241027T010000
END:STANDARD
BEGIN:DAYLIGHT
TZOFFSETFROM:+0100
TZOFFSETTO:+0200
TZNAME:CEST
DTSTART:20250330T010000
END:DAYLIGHT
BEGIN:STANDARD
TZOFFSETFROM:+0200
TZOFFSETTO:+0100
TZNAME:CET
DTSTART:20251026T010000
END:STANDARD
BEGIN:DAYLIGHT
TZOFFSETFROM:+0100
TZOFFSETTO:+0200
TZNAME:CEST
DTSTART:20260329T010000
END:DAYLIGHT
BEGIN:STANDARD
TZOFFSETFROM:+0200
TZOFFSETTO:+0100
TZNAME:CET
DTSTART:20261025T010000
END:STANDARD
END:VTIMEZONE
BEGIN:VEVENT
DTSTART;TZID=Europe/Berlin:20250306T180000
DTEND;TZID=Europe/Berlin:20250306T200000
DTSTAMP:20260423T190306
CREATED:20250203T134210Z
LAST-MODIFIED:20250303T131907Z
UID:14443-1741284000-1741291200@hafenmuseum-bremen.de
SUMMARY:Speer goes to Hollywood
DESCRIPTION:Filmvorführung und Podiumsgespräch mit Anja Link (School of Architecture Bremen)\, Marcus Meyer (Denkort Bunker Valentin) und Holger Tepe (City 46) \nAlbert Speer ist ein Rätsel. Er war der ranghöchste Nazi\, der in Nürnberg der Todesstrafe entging. Speer zählte zu Hitlers engsten Vertrauten und sollte als sein Chefarchitekt Berlin zur Welthauptstadt umgestalten. Als Reichsminister für Bewaffnung und Munition war Speer verantwortlich für zwölf Millionen Zwangsarbeiter. Dennoch genießt er bis heute den Ruf des „guten Nazis“ – ein Mythos\, den er sorgsam selbst entwarf und kultivierte. Speer goes to Hollywood führt uns ins Jahr 1971: Paramount Pictures plant Speers Bestseller „Erinnerungen“ zu verfilmen\, und Speer will selbst am Drehbuch mitwirken. Vanessa Lapas Film basiert auf Tonaufzeichnungen der monatelangen Gespräche\, die Drehbuchautor Andrew Birkin mit Speer geführt hat\, und zeigt Speers skrupellosen Versuch\, seine Vergangenheit mit dem geplanten Film reinzuwaschen. Lapas Film enthält zudem seltene Archivaufnahmen\, die Speer vor dem Zweiten Weltkrieg\, in Kriegszeiten und später als mehr oder weniger zurückgezogen lebenden Ruheständler auf dem Land zeigen. \nISR 2020\, 97 Min\, OmU \nBis zum 19. März im Programm des City 46 \n  \n 
URL:https://hafenmuseum-bremen.de/kalender/speer-goes-to-hollywood/
LOCATION:City 46\, Birkenstr. 1\, Bremen\, Bremen\, 28195\, Germany
CATEGORIES:Film,Sonderausstellung
ORGANIZER;CN="Hafenmuseum Bremen":MAILTO:info@hafenmuseum-bremen.de
END:VEVENT
END:VCALENDAR