BEGIN:VCALENDAR
VERSION:2.0
PRODID:-//Hafenmuseum Bremen - ECPv6.15.20//NONSGML v1.0//EN
CALSCALE:GREGORIAN
METHOD:PUBLISH
X-WR-CALNAME:Hafenmuseum Bremen
X-ORIGINAL-URL:https://hafenmuseum-bremen.de
X-WR-CALDESC:Veranstaltungen für Hafenmuseum Bremen
REFRESH-INTERVAL;VALUE=DURATION:PT1H
X-Robots-Tag:noindex
X-PUBLISHED-TTL:PT1H
BEGIN:VTIMEZONE
TZID:Europe/Berlin
BEGIN:DAYLIGHT
TZOFFSETFROM:+0100
TZOFFSETTO:+0200
TZNAME:CEST
DTSTART:20230326T010000
END:DAYLIGHT
BEGIN:STANDARD
TZOFFSETFROM:+0200
TZOFFSETTO:+0100
TZNAME:CET
DTSTART:20231029T010000
END:STANDARD
BEGIN:DAYLIGHT
TZOFFSETFROM:+0100
TZOFFSETTO:+0200
TZNAME:CEST
DTSTART:20240331T010000
END:DAYLIGHT
BEGIN:STANDARD
TZOFFSETFROM:+0200
TZOFFSETTO:+0100
TZNAME:CET
DTSTART:20241027T010000
END:STANDARD
BEGIN:DAYLIGHT
TZOFFSETFROM:+0100
TZOFFSETTO:+0200
TZNAME:CEST
DTSTART:20250330T010000
END:DAYLIGHT
BEGIN:STANDARD
TZOFFSETFROM:+0200
TZOFFSETTO:+0100
TZNAME:CET
DTSTART:20251026T010000
END:STANDARD
END:VTIMEZONE
BEGIN:VEVENT
DTSTART;TZID=Europe/Berlin:20241009T193000
DTEND;TZID=Europe/Berlin:20241009T210000
DTSTAMP:20260419T215834
CREATED:20240911T113338Z
LAST-MODIFIED:20240911T113338Z
UID:14362-1728502200-1728507600@hafenmuseum-bremen.de
SUMMARY:Wein aus Südafrika: Koloniale Ursprünge und transnationale Kämpfe
DESCRIPTION:Veranstaltung mit: Jamie-Lee Clarentia Geslin und Jonathan Bensley Appies (Landarbeiter:innen)\, Deneco Dubé (CSAAWU)\, Martin Lechner (tie) und Lilli Hasche (Uni Bremen) \nSeit 1658 wird in Südafrika Wein angebaut. Der Weinanbau war von Anfang mit dem europäischen Kolonialismus verknüpft: Europäische Seefahrer tranken den Wein\, den Versklavte auf Plantagen anbauen mussten. Koloniale Kontinuitäten von Rassismus\, Kapitalismus und Patriachat ziehen sich durch die Apartheid bis in die Gegenwart und wirken sich bis heute auf die Arbeitsbedingungen auf den Plantagen aus. Für Arbeiter:innen bedeutet das geringe Löhne\, schlechte Arbeitssicherheit und die Verletzung grundlegender Arbeitsrechte. \nZwei Landarbeiter:innen und ein Gewerkschafter aus Südafrika\, sowie ein Gewerkschaftler und eine Wissenschaftlerin aus Deutschland werden über diese neue Form der Organisierung entlang der Lieferkette berichten und dabei einen Einblick in den Weinanbau in Südafrika und zum Stand von Arbeitskämpfen entlang von Lieferketten geben. \nDie Veranstaltung findet in deutscher und englischer Lautsprache statt (mit Simultanübersetzung).
URL:https://hafenmuseum-bremen.de/kalender/wein-aus-suedafrika-koloniale-urspruenge-und-transnationale-kaempfe/
LOCATION:DGB Haus\, Bahnhofsplatz 22\, Bremen\, Bremen\, 28195\, Deutschland
CATEGORIES:Vortrag
ORGANIZER;CN="GRK Contradiction Studies":MAILTO:grk2686@uni-bremen.de
END:VEVENT
END:VCALENDAR