BEGIN:VCALENDAR
VERSION:2.0
PRODID:-//Hafenmuseum Bremen - ECPv6.15.20//NONSGML v1.0//EN
CALSCALE:GREGORIAN
METHOD:PUBLISH
X-WR-CALNAME:Hafenmuseum Bremen
X-ORIGINAL-URL:https://hafenmuseum-bremen.de
X-WR-CALDESC:Veranstaltungen für Hafenmuseum Bremen
REFRESH-INTERVAL;VALUE=DURATION:PT1H
X-Robots-Tag:noindex
X-PUBLISHED-TTL:PT1H
BEGIN:VTIMEZONE
TZID:Europe/Berlin
BEGIN:DAYLIGHT
TZOFFSETFROM:+0100
TZOFFSETTO:+0200
TZNAME:CEST
DTSTART:20230326T010000
END:DAYLIGHT
BEGIN:STANDARD
TZOFFSETFROM:+0200
TZOFFSETTO:+0100
TZNAME:CET
DTSTART:20231029T010000
END:STANDARD
BEGIN:DAYLIGHT
TZOFFSETFROM:+0100
TZOFFSETTO:+0200
TZNAME:CEST
DTSTART:20240331T010000
END:DAYLIGHT
BEGIN:STANDARD
TZOFFSETFROM:+0200
TZOFFSETTO:+0100
TZNAME:CET
DTSTART:20241027T010000
END:STANDARD
BEGIN:DAYLIGHT
TZOFFSETFROM:+0100
TZOFFSETTO:+0200
TZNAME:CEST
DTSTART:20250330T010000
END:DAYLIGHT
BEGIN:STANDARD
TZOFFSETFROM:+0200
TZOFFSETTO:+0100
TZNAME:CET
DTSTART:20251026T010000
END:STANDARD
END:VTIMEZONE
BEGIN:VEVENT
DTSTART;VALUE=DATE:20240724
DTEND;VALUE=DATE:20240815
DTSTAMP:20260419T185603
CREATED:20240718T133607Z
LAST-MODIFIED:20240722T111832Z
UID:13832-1721779200-1723679999@hafenmuseum-bremen.de
SUMMARY:auf augenhöhe / at eye level
DESCRIPTION:Zur Rolle Otto von Bismarcks in der deutschen Kolonialpolitik am Beispiel des Bismarck-Archipels \nauf augenhöhe mit Bismarck – auf einem dreistöckigen Gerüstturm stehen die Besucher*innen gleichauf mit dem Reiterstandbild des ehemaligen Reichskanzlers. Ein Audioguide informiert zu Bismarcks maßgeblicher Rolle in der deutschen Kolonialpolitik und ihrer bis in die Gegenwart reichenden Konsequenzen. \nEin Fokus liegt dabei auf dem heutigen Papua-Neuguinea\, das von 1884 bis 1914 als „Bismarck-Archipel“ zum „deutschem Schutzgebiet“ gehörte. \nDas historische und übermächtig anmutende Reiterstandbild auf dem Domshof befindet sich an einem der zentralsten Orte Bremens. Es wird für drei Wochen auf ein menschliches Maß reduziert\, so dass sich die Besucher:innen aus einer demokratischen Perspektive heraus ein eigenes Bild der geschichtlichen Bedeutung Bismarcks machen können. \nAm Domshof 24.07. bis 14.08.2024\, jeweils 11.00 bis 17.00 Uhr \nKonzept und Realisierung Rainer Weber
URL:https://hafenmuseum-bremen.de/kalender/auf-augenhoehe-at-eye-level/
LOCATION:Domshof\, Domshof\, Bremen\, Bremen\, 28195\, Deutschland
CATEGORIES:Sonderausstellung
ATTACH;FMTTYPE=image/jpeg:https://hafenmuseum-bremen.de/wp-content/uploads/auf-augenhoehe.jpg
END:VEVENT
END:VCALENDAR