BEGIN:VCALENDAR
VERSION:2.0
PRODID:-//Hafenmuseum Bremen - ECPv6.15.20//NONSGML v1.0//EN
CALSCALE:GREGORIAN
METHOD:PUBLISH
X-ORIGINAL-URL:https://hafenmuseum-bremen.de
X-WR-CALDESC:Veranstaltungen für Hafenmuseum Bremen
REFRESH-INTERVAL;VALUE=DURATION:PT1H
X-Robots-Tag:noindex
X-PUBLISHED-TTL:PT1H
BEGIN:VTIMEZONE
TZID:Europe/Berlin
BEGIN:DAYLIGHT
TZOFFSETFROM:+0100
TZOFFSETTO:+0200
TZNAME:CEST
DTSTART:20230326T010000
END:DAYLIGHT
BEGIN:STANDARD
TZOFFSETFROM:+0200
TZOFFSETTO:+0100
TZNAME:CET
DTSTART:20231029T010000
END:STANDARD
BEGIN:DAYLIGHT
TZOFFSETFROM:+0100
TZOFFSETTO:+0200
TZNAME:CEST
DTSTART:20240331T010000
END:DAYLIGHT
BEGIN:STANDARD
TZOFFSETFROM:+0200
TZOFFSETTO:+0100
TZNAME:CET
DTSTART:20241027T010000
END:STANDARD
BEGIN:DAYLIGHT
TZOFFSETFROM:+0100
TZOFFSETTO:+0200
TZNAME:CEST
DTSTART:20250330T010000
END:DAYLIGHT
BEGIN:STANDARD
TZOFFSETFROM:+0200
TZOFFSETTO:+0100
TZNAME:CET
DTSTART:20251026T010000
END:STANDARD
END:VTIMEZONE
BEGIN:VEVENT
DTSTART;TZID=Europe/Berlin:20240918T170000
DTEND;TZID=Europe/Berlin:20240918T183000
DTSTAMP:20260419T202439
CREATED:20240814T121713Z
LAST-MODIFIED:20240902T122031Z
UID:14262-1726678800-1726684200@hafenmuseum-bremen.de
SUMMARY:Bremen und der Pazifik im kolonialen Zeitalter
DESCRIPTION:Stadtspaziergang durch die Bremer Innenstadt mit Studierenden der Universität Bremen. Der Rundgang bietet einen kritischen Blick auf die Geschichte des deutschen Kolonialismus und fördert das Verständnis für globale Zusammenhänge. Begleiten Sie uns auf eine Reise durch die Geschichte und erfahren Sie\, wie Bremen und der Pazifik miteinander verbunden sind. \nIm Rahmen der Maritime Woche Bremen. \nProgrammflyer Maritime Woche \n 
URL:https://hafenmuseum-bremen.de/kalender/bremen-und-der-pazifik-im-kolonialen-zeitalter/
LOCATION:Roland\, Marktplatz\, Am Markt 1\, Bremen\, Bremen\, 28195\, Deutschland
CATEGORIES:Außenführung
END:VEVENT
END:VCALENDAR